BEGIN:VCALENDAR
BEGIN:VEVENT
DESCRIPTION:\nMore Information: https://secure.franklintheatre.com/websales/pages/TicketSearchCriteria.aspx?evtInfo=533429~3bf8ee4f-db2e-470c-a7fd-4c5271d468ef&\n\n
DTSTART:20260321T160000Z
DTEND:20260321T173300Z
LOCATION:Franklin Theatre, 419 Main Street, FRANKLIN, TN, 37064
SUMMARY:Saturday Morning Cartoons! Brave (2012)
UID:533429
DTSTAMP:20260420T045143Z
END:VEVENT
END:VCALENDAR
