BEGIN:VCALENDAR
BEGIN:VEVENT
DESCRIPTION:\nMore Information: https://secure.franklintheatre.com/websales/pages/TicketSearchCriteria.aspx?evtInfo=533430~3bf8ee4f-db2e-470c-a7fd-4c5271d468ef&\n\n
DTSTART:20260318T000000Z
DTEND:20260318T014000Z
LOCATION:Franklin Theatre, 419 Main Street, FRANKLIN, TN, 37064
SUMMARY:Happy St. Patrick&#39;s Day! Leap Year (2010)
UID:533430
DTSTAMP:20260421T034150Z
END:VEVENT
END:VCALENDAR
