BEGIN:VCALENDAR
BEGIN:VEVENT
DESCRIPTION:\nMore Information: https://secure.franklintheatre.com/websales/pages/TicketSearchCriteria.aspx?evtInfo=543433~3bf8ee4f-db2e-470c-a7fd-4c5271d468ef&\n\n
DTSTART:20260409T000000Z
DTEND:20260409T013000Z
LOCATION:Franklin Theatre, 419 Main Street, FRANKLIN, TN, 37064
SUMMARY:Uncle B&#39;s Damned Ole Opry featuring John McEuen presents &quot;Will the Circle Be Unbroken&quot;
UID:543433
DTSTAMP:20260423T025603Z
END:VEVENT
END:VCALENDAR
