BEGIN:VCALENDAR
BEGIN:VEVENT
DESCRIPTION:\nMore Information: https://secure.franklintheatre.com/websales/pages/TicketSearchCriteria.aspx?evtInfo=551764~cfe40b7d-1c56-4c4b-b937-600bdd7c5904&\n\n
DTSTART:20260713T140000Z
DTEND:20260716T200000Z
LOCATION:Franklin Theatre, 419 Main Street, FRANKLIN, TN, 37064
SUMMARY:Summer Sessions: Music Industry Workshop
UID:551764
DTSTAMP:20260423T110746Z
END:VEVENT
END:VCALENDAR
